BEGIN:VCALENDAR
VERSION:2.0
PRODID:-//hacksw/handcal//NONSGML v1.0//EN
BEGIN:VEVENT
SUMMARY:LAHONTAN
UID:f7a4ffdb-7e4d-4608-b95e-970d049e4c8e
DTSTART:20260427T220000Z
DTEND:20260428T220000Z
LOCATION:Localisation   
CATEGORIES:Sportif
STATUS:
DESCRIPTION:<p><a
 href="https://www.openrunner.com/route-details/11953452"
 target="_blank" rel="noreferrer
 noopener">https://www.openrunner.com/route-details/11953452</a></p>
URL;VALUE=URI:https://ustyrossecyclo.sportsregions.fr/evenements/2026/04/28/lahontan-2435539
END:VEVENT
END:VCALENDAR
