BEGIN:VCALENDAR
VERSION:2.0
PRODID:-//hacksw/handcal//NONSGML v1.0//EN
BEGIN:VEVENT
SUMMARY:CASTETS
UID:37439238-196d-4cd7-a968-0481543bc3c7
DTSTART:20260423T220000Z
DTEND:20260424T220000Z
LOCATION:Localisation   
CATEGORIES:Sportif
STATUS:
DESCRIPTION:<p><a
 href="https://www.openrunner.com/route-details/16070152"
 target="_blank" rel="noreferrer
 noopener">https://www.openrunner.com/route-details/16070152</a></p>
URL;VALUE=URI:https://ustyrossecyclo.sportsregions.fr/evenements/2026/04/24/castets-2435537
END:VEVENT
END:VCALENDAR
