BEGIN:VCALENDAR
VERSION:2.0
PRODID:-//hacksw/handcal//NONSGML v1.0//EN
BEGIN:VEVENT
SUMMARY:TASTET
UID:610d504f-c98d-47db-b72e-098cf2106f89
DTSTART:20260413T220000Z
DTEND:20260414T220000Z
LOCATION:Localisation   
CATEGORIES:Sportif
STATUS:
DESCRIPTION:<p><a
 href="https://www.openrunner.com/route-details/14200382"
 target="_blank" rel="noreferrer
 noopener">https://www.openrunner.com/route-details/14200382</a></p>
URL;VALUE=URI:https://ustyrossecyclo.sportsregions.fr/evenements/2026/04/14/tastet-2435532
END:VEVENT
END:VCALENDAR
