BEGIN:VCALENDAR
VERSION:2.0
PRODID:-//hacksw/handcal//NONSGML v1.0//EN
BEGIN:VEVENT
SUMMARY:MIREMONT
UID:75dc8929-13ef-4639-b428-4cfc7bdf2406
DTSTART:20260409T220000Z
DTEND:20260410T220000Z
LOCATION:Localisation   
CATEGORIES:Sportif
STATUS:
DESCRIPTION:<p><a
 href="https://www.openrunner.com/route-details/16133248"
 target="_blank" rel="noreferrer
 noopener">https://www.openrunner.com/route-details/16133248</a></p>
URL;VALUE=URI:https://ustyrossecyclo.sportsregions.fr/evenements/2026/04/10/miremont-2435531
END:VEVENT
END:VCALENDAR
