BEGIN:VCALENDAR
VERSION:2.0
PRODID:-//hacksw/handcal//NONSGML v1.0//EN
BEGIN:VEVENT
SUMMARY:GARREY
UID:686df696-1bc5-4b91-b454-f7ca78a06039
DTSTART:20260406T220000Z
DTEND:20260407T220000Z
LOCATION:Localisation   
CATEGORIES:Sportif
STATUS:
DESCRIPTION:<p><a
 href="https://www.openrunner.com/route-details/11086060"
 target="_blank" rel="noreferrer
 noopener">https://www.openrunner.com/route-details/11086060</a></p>
URL;VALUE=URI:https://ustyrossecyclo.sportsregions.fr/evenements/2026/04/07/garrey-2435529
END:VEVENT
END:VCALENDAR
